BEGIN:VCALENDAR
CALSCALE:GREGORIAN
VERSION:2.0
PRODID:-//IDN nextcloud.com//Calendar app 5.5.14//EN
BEGIN:VEVENT
CREATED:20260211T063617Z
DTSTAMP:20260211T072030Z
LAST-MODIFIED:20260211T072030Z
SEQUENCE:7
UID:56a7a263-e04b-4973-9d4d-f07ae2bd288f
DTSTART;TZID=Europe/Berlin:20260317T090000
DTEND;TZID=Europe/Berlin:20260317T163000
STATUS:CONFIRMED
SUMMARY:Introduction to Python for Researchers | 17 & 18 March 09:00-16:30
LOCATION:MZH | Room 5600
DESCRIPTION:https://www.uni-bremen.de/data-science-center/trainings-services/trainings-workshops/dsc-2026-02-introduction-to-python-for-researchers
RRULE:FREQ=DAILY;COUNT=2
BEGIN:VALARM
ACTION:DISPLAY
TRIGGER;RELATED=START:-P1D
DESCRIPTION:This is an event reminder.
SUMMARY:Introduction to Python for Researchers | 17 & 18 March 09:00-16:30
END:VALARM
END:VEVENT
BEGIN:VTIMEZONE
TZID:Europe/Berlin
BEGIN:DAYLIGHT
TZNAME:CEST
TZOFFSETFROM:+0100
TZOFFSETTO:+0200
DTSTART:19700329T020000
RRULE:FREQ=YEARLY;BYMONTH=3;BYDAY=-1SU
END:DAYLIGHT
BEGIN:STANDARD
TZNAME:CET
TZOFFSETFROM:+0200
TZOFFSETTO:+0100
DTSTART:19701025T030000
RRULE:FREQ=YEARLY;BYMONTH=10;BYDAY=-1SU
END:STANDARD
END:VTIMEZONE
END:VCALENDAR